BEGIN:VCALENDAR
VERSION:2.0
PRODID:-//Red Cross of Constantine | Hampshire - ECPv6.15.13//NONSGML v1.0//EN
CALSCALE:GREGORIAN
METHOD:PUBLISH
X-WR-CALNAME:Red Cross of Constantine | Hampshire
X-ORIGINAL-URL:http://rcchantsandiow.org.uk
X-WR-CALDESC:Events for Red Cross of Constantine | Hampshire
REFRESH-INTERVAL;VALUE=DURATION:PT1H
X-Robots-Tag:noindex
X-PUBLISHED-TTL:PT1H
BEGIN:VTIMEZONE
TZID:Europe/London
BEGIN:DAYLIGHT
TZOFFSETFROM:+0000
TZOFFSETTO:+0100
TZNAME:BST
DTSTART:20240331T010000
END:DAYLIGHT
BEGIN:STANDARD
TZOFFSETFROM:+0100
TZOFFSETTO:+0000
TZNAME:GMT
DTSTART:20241027T010000
END:STANDARD
BEGIN:DAYLIGHT
TZOFFSETFROM:+0000
TZOFFSETTO:+0100
TZNAME:BST
DTSTART:20250330T010000
END:DAYLIGHT
BEGIN:STANDARD
TZOFFSETFROM:+0100
TZOFFSETTO:+0000
TZNAME:GMT
DTSTART:20251026T010000
END:STANDARD
BEGIN:DAYLIGHT
TZOFFSETFROM:+0000
TZOFFSETTO:+0100
TZNAME:BST
DTSTART:20260329T010000
END:DAYLIGHT
BEGIN:STANDARD
TZOFFSETFROM:+0100
TZOFFSETTO:+0000
TZNAME:GMT
DTSTART:20261025T010000
END:STANDARD
END:VTIMEZONE
BEGIN:VEVENT
DTSTART;TZID=Europe/London:20250530T180000
DTEND;TZID=Europe/London:20250530T213000
DTSTAMP:20260424T002115
CREATED:20240429T114816Z
LAST-MODIFIED:20240429T114816Z
UID:2944-1748628000-1748640600@rcchantsandiow.org.uk
SUMMARY:St. Boniface Conclave No. 287
DESCRIPTION:This will be a normal Conclave meeting.
URL:http://rcchantsandiow.org.uk/event/st-boniface-conclave-no-287-may2025/
LOCATION:Ryde Masonic Hall\, John Street\, Ryde\, Isle of Wight\, PO33 2PY\, United Kingdom
CATEGORIES:Conclave Meeting
END:VEVENT
END:VCALENDAR