BEGIN:VCALENDAR
VERSION:2.0
PRODID:-//Red Cross of Constantine | Hampshire - ECPv6.15.13//NONSGML v1.0//EN
CALSCALE:GREGORIAN
METHOD:PUBLISH
X-ORIGINAL-URL:http://rcchantsandiow.org.uk
X-WR-CALDESC:Events for Red Cross of Constantine | Hampshire
REFRESH-INTERVAL;VALUE=DURATION:PT1H
X-Robots-Tag:noindex
X-PUBLISHED-TTL:PT1H
BEGIN:VTIMEZONE
TZID:Europe/London
BEGIN:DAYLIGHT
TZOFFSETFROM:+0000
TZOFFSETTO:+0100
TZNAME:BST
DTSTART:20250330T010000
END:DAYLIGHT
BEGIN:STANDARD
TZOFFSETFROM:+0100
TZOFFSETTO:+0000
TZNAME:GMT
DTSTART:20251026T010000
END:STANDARD
BEGIN:DAYLIGHT
TZOFFSETFROM:+0000
TZOFFSETTO:+0100
TZNAME:BST
DTSTART:20260329T010000
END:DAYLIGHT
BEGIN:STANDARD
TZOFFSETFROM:+0100
TZOFFSETTO:+0000
TZNAME:GMT
DTSTART:20261025T010000
END:STANDARD
BEGIN:DAYLIGHT
TZOFFSETFROM:+0000
TZOFFSETTO:+0100
TZNAME:BST
DTSTART:20270328T010000
END:DAYLIGHT
BEGIN:STANDARD
TZOFFSETFROM:+0100
TZOFFSETTO:+0000
TZNAME:GMT
DTSTART:20271031T010000
END:STANDARD
END:VTIMEZONE
BEGIN:VEVENT
DTSTART;TZID=Europe/London:20260205T180000
DTEND;TZID=Europe/London:20260205T213000
DTSTAMP:20260423T220658
CREATED:20250604T094804Z
LAST-MODIFIED:20250604T094804Z
UID:3359-1770314400-1770327000@rcchantsandiow.org.uk
SUMMARY:St Peter & St Paul Conclave No. 450
DESCRIPTION:This will be a Divisional KHS meeting. \nThe Intendant General\, Rt. Ill. Kt. Steven Groeger\, will be making an official visit to the conclave on this occasion.
URL:http://rcchantsandiow.org.uk/event/st-peter-st-paul-conclave-0226/
LOCATION:Brook House Masonic Centre\, Brook Lane\, Botley\, Hampshire\, United Kingdom
CATEGORIES:Conclave Meeting,IG Visit,Official Visits
END:VEVENT
BEGIN:VEVENT
DTSTART;TZID=Europe/London:20260212T180000
DTEND;TZID=Europe/London:20260212T210000
DTSTAMP:20260423T220658
CREATED:20250604T084555Z
LAST-MODIFIED:20250710T095118Z
UID:3326-1770919200-1770930000@rcchantsandiow.org.uk
SUMMARY:Rose of Wessex Conclave No. 236
DESCRIPTION:This will be a normal Conclave meeting.
URL:http://rcchantsandiow.org.uk/event/rose-of-wessex-conclave-0226/
LOCATION:Gosport Masonic Hall\, Clarence Road\, Gosport\, Hamoshire\, PO12 1BB\, United Kingdom
CATEGORIES:Conclave Meeting
END:VEVENT
BEGIN:VEVENT
DTSTART;TZID=Europe/London:20260216T180000
DTEND;TZID=Europe/London:20260216T213000
DTSTAMP:20260423T220658
CREATED:20250604T095658Z
LAST-MODIFIED:20250604T095658Z
UID:3366-1771264800-1771277400@rcchantsandiow.org.uk
SUMMARY:Mystic Rose Conclave No. 464
DESCRIPTION:This is an Enthronement meeting.
URL:http://rcchantsandiow.org.uk/event/mystic-rose-conclave-0226/
LOCATION:Woolston Masonic Centre\, Masonic Hall\, Manor Road\, Southampton\, Hampshire\, SO19 2DS\, United Kingdom
CATEGORIES:Conclave Meeting
END:VEVENT
BEGIN:VEVENT
DTSTART;TZID=Europe/London:20260227T180000
DTEND;TZID=Europe/London:20260227T210000
DTSTAMP:20260423T220658
CREATED:20250604T085803Z
LAST-MODIFIED:20250604T085803Z
UID:3334-1772215200-1772226000@rcchantsandiow.org.uk
SUMMARY:Forest Rose Conclave No. 265
DESCRIPTION:
URL:http://rcchantsandiow.org.uk/event/forest-rose-conclave-0226/
LOCATION:Lymington Masonic Hall\, 10 High Street\, Lymington\, Hampshire\, SO41 9AA\, United Kingdom
CATEGORIES:Conclave Meeting
END:VEVENT
BEGIN:VEVENT
DTSTART;TZID=Europe/London:20260227T180000
DTEND;TZID=Europe/London:20260227T213000
DTSTAMP:20260423T220658
CREATED:20250604T090443Z
LAST-MODIFIED:20250710T100229Z
UID:3340-1772215200-1772227800@rcchantsandiow.org.uk
SUMMARY:St. Boniface Conclave No. 287
DESCRIPTION:The meeting is an Enthronement meeting. \nThe Intendant General\, Rt. Ill. Kt. Steven Groeger\, will be making an official visit to the conclave on this occasion.
URL:http://rcchantsandiow.org.uk/event/st-boniface-conclave-0226/
LOCATION:Ryde Masonic Hall\, John Street\, Ryde\, Isle of Wight\, PO33 2PY\, United Kingdom
CATEGORIES:Conclave Meeting,IG Visit,Official Visits
END:VEVENT
BEGIN:VEVENT
DTSTART;TZID=Europe/London:20260305T180000
DTEND;TZID=Europe/London:20260305T210000
DTSTAMP:20260423T220658
CREATED:20250604T083345Z
LAST-MODIFIED:20250604T083345Z
UID:3320-1772733600-1772744400@rcchantsandiow.org.uk
SUMMARY:Border Conclave No. 168
DESCRIPTION:  \n 
URL:http://rcchantsandiow.org.uk/event/border-conclave-0326/
LOCATION:Alton Masonic Centre\, Market Street\, Alton\, Hampshire\, GU34 1HA\, United Kingdom
CATEGORIES:Conclave Meeting
END:VEVENT
BEGIN:VEVENT
DTSTART;TZID=Europe/London:20260309T180000
DTEND;TZID=Europe/London:20260309T213000
DTSTAMP:20260423T220658
CREATED:20250604T082731Z
LAST-MODIFIED:20250604T082731Z
UID:3314-1773079200-1773091800@rcchantsandiow.org.uk
SUMMARY:Naval & Military Conclave No. 35
DESCRIPTION:
URL:http://rcchantsandiow.org.uk/event/naval-military-conclave-0326/
LOCATION:Phoenix Rooms\, 110 High Street\, Old Portsmouth\, Hampshire\, PO1 2HJ\, United Kingdom
CATEGORIES:Conclave Meeting
END:VEVENT
BEGIN:VEVENT
DTSTART;TZID=Europe/London:20260326T180000
DTEND;TZID=Europe/London:20260326T213000
DTSTAMP:20260423T220658
CREATED:20250604T093924Z
LAST-MODIFIED:20250703T181513Z
UID:3353-1774548000-1774560600@rcchantsandiow.org.uk
SUMMARY:King Aethelwulf Conclave No. 437
DESCRIPTION:This will be a normal Conclave meeting. \nThe Intendant General\, Rt. Ill. Kt. Steven Groeger\, will be making an official visit to the conclave on this occasion.
URL:http://rcchantsandiow.org.uk/event/king-aethelwulf-conclave-0326/
LOCATION:Winchester Masonic Centre\, Alresford Road\, Winchester\, Hampshire\, SO21 1HB\, United Kingdom
CATEGORIES:Conclave Meeting,IG Visit,Official Visits
END:VEVENT
BEGIN:VEVENT
DTSTART;TZID=Europe/London:20260409T180000
DTEND;TZID=Europe/London:20260409T210000
DTSTAMP:20260423T220658
CREATED:20250604T084810Z
LAST-MODIFIED:20250710T095642Z
UID:3328-1775757600-1775768400@rcchantsandiow.org.uk
SUMMARY:Rose of Wessex Conclave No. 236
DESCRIPTION:This will be a Divisional KHS meeting. \nThe Intendant General\, Rt. Ill. Kt. Steven Groeger\, will be making an official visit to the conclave on this occasion.
URL:http://rcchantsandiow.org.uk/event/rose-of-wessex-conclave-0426/
LOCATION:Gosport Masonic Hall\, Clarence Road\, Gosport\, Hamoshire\, PO12 1BB\, United Kingdom
CATEGORIES:Conclave Meeting,IG Visit,Official Visits
END:VEVENT
BEGIN:VEVENT
DTSTART;TZID=Europe/London:20260428T180000
DTEND;TZID=Europe/London:20260428T213000
DTSTAMP:20260423T220658
CREATED:20250604T091356Z
LAST-MODIFIED:20250604T091356Z
UID:3349-1777399200-1777411800@rcchantsandiow.org.uk
SUMMARY:Holy Rood Conclave No. 319
DESCRIPTION:
URL:http://rcchantsandiow.org.uk/event/holy-rood-conclave-0426/
LOCATION:Kings Court Masonic Centre\, 81 Winchester Road\, Eastleigh\, Hampshire\, SO53 2GG\, United Kingdom
CATEGORIES:Conclave Meeting
END:VEVENT
BEGIN:VEVENT
DTSTART;TZID=Europe/London:20260507T180000
DTEND;TZID=Europe/London:20260507T210000
DTSTAMP:20260423T220658
CREATED:20250604T083522Z
LAST-MODIFIED:20250604T083522Z
UID:3322-1778176800-1778187600@rcchantsandiow.org.uk
SUMMARY:Border Conclave No. 168
DESCRIPTION:  \n 
URL:http://rcchantsandiow.org.uk/event/border-conclave-0526/
LOCATION:Alton Masonic Centre\, Market Street\, Alton\, Hampshire\, GU34 1HA\, United Kingdom
CATEGORIES:Conclave Meeting
END:VEVENT
BEGIN:VEVENT
DTSTART;TZID=Europe/London:20260511T180000
DTEND;TZID=Europe/London:20260511T213000
DTSTAMP:20260423T220658
CREATED:20250604T082913Z
LAST-MODIFIED:20250604T082913Z
UID:3316-1778522400-1778535000@rcchantsandiow.org.uk
SUMMARY:Naval & Military Conclave No. 35
DESCRIPTION:The meeting is an Enthronement meeting.
URL:http://rcchantsandiow.org.uk/event/naval-military-conclave-0526/
LOCATION:Phoenix Rooms\, 110 High Street\, Old Portsmouth\, Hampshire\, PO1 2HJ\, United Kingdom
CATEGORIES:Conclave Meeting
END:VEVENT
BEGIN:VEVENT
DTSTART;TZID=Europe/London:20260522T180000
DTEND;TZID=Europe/London:20260522T210000
DTSTAMP:20260423T220658
CREATED:20250604T085944Z
LAST-MODIFIED:20250703T181424Z
UID:3336-1779472800-1779483600@rcchantsandiow.org.uk
SUMMARY:Forest Rose Conclave No. 265
DESCRIPTION:This will be a normal Conclave meeting. \nThe Intendant General\, Rt. Ill. Kt. Steven Groeger\, will be making an official visit to the conclave on this occasion.
URL:http://rcchantsandiow.org.uk/event/forest-rose-conclave-0526/
LOCATION:Lymington Masonic Hall\, 10 High Street\, Lymington\, Hampshire\, SO41 9AA\, United Kingdom
CATEGORIES:Conclave Meeting,IG Visit,Official Visits
END:VEVENT
BEGIN:VEVENT
DTSTART;TZID=Europe/London:20260523T180000
DTEND;TZID=Europe/London:20260523T213000
DTSTAMP:20260423T220658
CREATED:20250604T090630Z
LAST-MODIFIED:20250604T090630Z
UID:3342-1779559200-1779571800@rcchantsandiow.org.uk
SUMMARY:St. Boniface Conclave No. 287
DESCRIPTION:
URL:http://rcchantsandiow.org.uk/event/st-boniface-conclave-0526/
LOCATION:Ryde Masonic Hall\, John Street\, Ryde\, Isle of Wight\, PO33 2PY\, United Kingdom
CATEGORIES:Conclave Meeting
END:VEVENT
BEGIN:VEVENT
DTSTART;TZID=Europe/London:20260618T180000
DTEND;TZID=Europe/London:20260618T213000
DTSTAMP:20260423T220658
CREATED:20250604T100254Z
LAST-MODIFIED:20250604T100254Z
UID:3370-1781805600-1781818200@rcchantsandiow.org.uk
SUMMARY:Milvian Bridge Conclave No. 515
DESCRIPTION:This will be a normal Conclave meeting. \nThe Intendant General\, Rt. Ill. Kt. Steven Groeger\, will be making an official visit to the conclave on this occasion.
URL:http://rcchantsandiow.org.uk/event/milvian-bridge-conclave-0626/
LOCATION:Andover Masonic Centre\, Masonic Hall\, East Street\, Andover\, Hampshire\, SP10 1EP\, United Kingdom
CATEGORIES:Conclave Meeting,IG Visit,Official Visits
END:VEVENT
BEGIN:VEVENT
DTSTART;TZID=Europe/London:20260625T180000
DTEND;TZID=Europe/London:20260625T213000
DTSTAMP:20260423T220658
CREATED:20250604T094046Z
LAST-MODIFIED:20250604T094046Z
UID:3355-1782410400-1782423000@rcchantsandiow.org.uk
SUMMARY:King Aethelwulf Conclave No. 437
DESCRIPTION:
URL:http://rcchantsandiow.org.uk/event/king-aethelwulf-conclave-0626/
LOCATION:Winchester Masonic Centre\, Alresford Road\, Winchester\, Hampshire\, SO21 1HB\, United Kingdom
CATEGORIES:Conclave Meeting
END:VEVENT
END:VCALENDAR