BEGIN:VCALENDAR
VERSION:2.0
PRODID:-//Red Cross of Constantine | Hampshire - ECPv6.15.13//NONSGML v1.0//EN
CALSCALE:GREGORIAN
METHOD:PUBLISH
X-WR-CALNAME:Red Cross of Constantine | Hampshire
X-ORIGINAL-URL:http://rcchantsandiow.org.uk
X-WR-CALDESC:Events for Red Cross of Constantine | Hampshire
REFRESH-INTERVAL;VALUE=DURATION:PT1H
X-Robots-Tag:noindex
X-PUBLISHED-TTL:PT1H
BEGIN:VTIMEZONE
TZID:Europe/London
BEGIN:DAYLIGHT
TZOFFSETFROM:+0000
TZOFFSETTO:+0100
TZNAME:BST
DTSTART:20250330T010000
END:DAYLIGHT
BEGIN:STANDARD
TZOFFSETFROM:+0100
TZOFFSETTO:+0000
TZNAME:GMT
DTSTART:20251026T010000
END:STANDARD
BEGIN:DAYLIGHT
TZOFFSETFROM:+0000
TZOFFSETTO:+0100
TZNAME:BST
DTSTART:20260329T010000
END:DAYLIGHT
BEGIN:STANDARD
TZOFFSETFROM:+0100
TZOFFSETTO:+0000
TZNAME:GMT
DTSTART:20261025T010000
END:STANDARD
BEGIN:DAYLIGHT
TZOFFSETFROM:+0000
TZOFFSETTO:+0100
TZNAME:BST
DTSTART:20270328T010000
END:DAYLIGHT
BEGIN:STANDARD
TZOFFSETFROM:+0100
TZOFFSETTO:+0000
TZNAME:GMT
DTSTART:20271031T010000
END:STANDARD
END:VTIMEZONE
BEGIN:VEVENT
DTSTART;TZID=Europe/London:20260425T103000
DTEND;TZID=Europe/London:20260425T150000
DTSTAMP:20260421T181018
CREATED:20251227T162036Z
LAST-MODIFIED:20251227T162036Z
UID:3614-1777113000-1777129200@rcchantsandiow.org.uk
SUMMARY:RCC AGM - Division of Surrey
DESCRIPTION:Red Cross Annual Conclave Meeting for the Division of Surrey
URL:http://rcchantsandiow.org.uk/event/rcc-agm-division-of-surrey/
LOCATION:Division of Surrey\, Croydon & District Masonic Hall\, 73 Oakfield Road\, Croydon\, Surrey\, CR0 2UX
CATEGORIES:Divisional Meeting
END:VEVENT
END:VCALENDAR