BEGIN:VCALENDAR
VERSION:2.0
PRODID:-//Red Cross of Constantine | Hampshire - ECPv6.15.13//NONSGML v1.0//EN
CALSCALE:GREGORIAN
METHOD:PUBLISH
X-WR-CALNAME:Red Cross of Constantine | Hampshire
X-ORIGINAL-URL:http://rcchantsandiow.org.uk
X-WR-CALDESC:Events for Red Cross of Constantine | Hampshire
REFRESH-INTERVAL;VALUE=DURATION:PT1H
X-Robots-Tag:noindex
X-PUBLISHED-TTL:PT1H
BEGIN:VTIMEZONE
TZID:Europe/London
BEGIN:DAYLIGHT
TZOFFSETFROM:+0000
TZOFFSETTO:+0100
TZNAME:BST
DTSTART:20240331T010000
END:DAYLIGHT
BEGIN:STANDARD
TZOFFSETFROM:+0100
TZOFFSETTO:+0000
TZNAME:GMT
DTSTART:20241027T010000
END:STANDARD
BEGIN:DAYLIGHT
TZOFFSETFROM:+0000
TZOFFSETTO:+0100
TZNAME:BST
DTSTART:20250330T010000
END:DAYLIGHT
BEGIN:STANDARD
TZOFFSETFROM:+0100
TZOFFSETTO:+0000
TZNAME:GMT
DTSTART:20251026T010000
END:STANDARD
BEGIN:DAYLIGHT
TZOFFSETFROM:+0000
TZOFFSETTO:+0100
TZNAME:BST
DTSTART:20260329T010000
END:DAYLIGHT
BEGIN:STANDARD
TZOFFSETFROM:+0100
TZOFFSETTO:+0000
TZNAME:GMT
DTSTART:20261025T010000
END:STANDARD
BEGIN:DAYLIGHT
TZOFFSETFROM:+0000
TZOFFSETTO:+0100
TZNAME:BST
DTSTART:20270328T010000
END:DAYLIGHT
BEGIN:STANDARD
TZOFFSETFROM:+0100
TZOFFSETTO:+0000
TZNAME:GMT
DTSTART:20271031T010000
END:STANDARD
END:VTIMEZONE
BEGIN:VEVENT
DTSTART;TZID=Europe/London:20260328T103000
DTEND;TZID=Europe/London:20260328T150000
DTSTAMP:20260421T165938
CREATED:20251227T161745Z
LAST-MODIFIED:20251227T161745Z
UID:3611-1774693800-1774710000@rcchantsandiow.org.uk
SUMMARY:RCC AGM - Metropolitan Division
DESCRIPTION:Red Cross Annual Conclave Meeting for the Metropolitan Division
URL:http://rcchantsandiow.org.uk/event/rcc-agm-metropolitan-division/
LOCATION:Mark Masons Hall\, 86 St James's Street\, London\, Mark Masons Hall 86 St James's St\, London\, SW1A 1PL\, England\, United Kingdom
CATEGORIES:Divisional Meeting
END:VEVENT
BEGIN:VEVENT
DTSTART;TZID=Europe/London:20260324T183000
DTEND;TZID=Europe/London:20260324T200000
DTSTAMP:20260421T165938
CREATED:20250604T101313Z
LAST-MODIFIED:20250604T101313Z
UID:3372-1774377000-1774382400@rcchantsandiow.org.uk
SUMMARY:Divisional General Purposes Committee meeting
DESCRIPTION:This meeting will be held via Zoom. Details will be provided nearer to the date.
URL:http://rcchantsandiow.org.uk/event/divisional-general-purposes-committee-meeting-0326/
LOCATION:Yorkshire
CATEGORIES:Divisional Meeting
END:VEVENT
BEGIN:VEVENT
DTSTART;TZID=Europe/London:20260321T103000
DTEND;TZID=Europe/London:20260321T150000
DTSTAMP:20260421T165938
CREATED:20251227T161414Z
LAST-MODIFIED:20251227T161414Z
UID:3608-1774089000-1774105200@rcchantsandiow.org.uk
SUMMARY:RCC AGM - Division of West Yorkshire
DESCRIPTION:Red Cross Annual Conclave Meeting for the Division of West Yorkshire
URL:http://rcchantsandiow.org.uk/event/rcc-agm-division-of-west-yorkshire/
LOCATION:Division of West Yorkshire\, Tapton Masonic Hall\, Shore Lane\, Sheffield\, West Yorkshire\, S10 3BU\, United Kingdom
CATEGORIES:Divisional Meeting
END:VEVENT
BEGIN:VEVENT
DTSTART;TZID=Europe/London:20260314T103000
DTEND;TZID=Europe/London:20260314T150000
DTSTAMP:20260421T165938
CREATED:20251227T161037Z
LAST-MODIFIED:20251227T161037Z
UID:3605-1773484200-1773500400@rcchantsandiow.org.uk
SUMMARY:RCC AGM - Division of Kent
DESCRIPTION:Red Cross Annual Conclave Meeting for the Division of Kent
URL:http://rcchantsandiow.org.uk/event/rcc-agm-division-of-kent/
LOCATION:Division of Kent\, Gillingham Masonic Centre\, Franklin Road\, Gillingham\, Kent\, ME7 4DG\, United Kingdom
CATEGORIES:Divisional Meeting
END:VEVENT
BEGIN:VEVENT
DTSTART;TZID=Europe/London:20260228T103000
DTEND;TZID=Europe/London:20260228T150000
DTSTAMP:20260421T165938
CREATED:20251227T160636Z
LAST-MODIFIED:20251227T160636Z
UID:3603-1772274600-1772290800@rcchantsandiow.org.uk
SUMMARY:RCC AGM - Division of South Wales and Monmouthshire
DESCRIPTION:Red Cross Annual Conclave Meeting for the Division of South Wales and Monmouthshire
URL:http://rcchantsandiow.org.uk/event/rcc-agm-division-of-south-wales-and-monmouthshire/
LOCATION:Yorkshire
CATEGORIES:Divisional Meeting
END:VEVENT
BEGIN:VEVENT
DTSTART;TZID=Europe/London:20260228T103000
DTEND;TZID=Europe/London:20260228T150000
DTSTAMP:20260421T165938
CREATED:20251227T160507Z
LAST-MODIFIED:20251227T160507Z
UID:3601-1772274600-1772290800@rcchantsandiow.org.uk
SUMMARY:RCC AGM - Division of Hertfordshire
DESCRIPTION:Red Cross Annual Conclave Meeting for the Division of Hertfordshire
URL:http://rcchantsandiow.org.uk/event/rcc-agm-division-of-hertfordshire/
LOCATION:Yorkshire
CATEGORIES:Divisional Meeting
END:VEVENT
BEGIN:VEVENT
DTSTART;TZID=Europe/London:20260221T103000
DTEND;TZID=Europe/London:20260221T150000
DTSTAMP:20260421T165938
CREATED:20251222T121834Z
LAST-MODIFIED:20251222T121834Z
UID:3596-1771669800-1771686000@rcchantsandiow.org.uk
SUMMARY:RCC AGM - West Midlands
DESCRIPTION:Red Cross Annual Conclave Meeting for the Division of West Midlands
URL:http://rcchantsandiow.org.uk/event/rcc-agm-west-midlands/
LOCATION:Division of West Midlands\, Kings Heath Freemasons Hall\, 221 Alcester Road South\, Kings Heath\, Birmingham\, B14 6DT\, United Kingdom
CATEGORIES:Divisional Meeting
END:VEVENT
BEGIN:VEVENT
DTSTART;TZID=Europe/London:20260214T103000
DTEND;TZID=Europe/London:20260214T150000
DTSTAMP:20260421T165938
CREATED:20251222T121425Z
LAST-MODIFIED:20251222T121518Z
UID:3592-1771065000-1771081200@rcchantsandiow.org.uk
SUMMARY:RCC AGM - Northumberland
DESCRIPTION:Red Cross Annual Conclave Meeting for the Division of Northumberland
URL:http://rcchantsandiow.org.uk/event/rcc-agm-northumberland/
LOCATION:Division of Northumberland\, Masonic Hall\, Fern Avenue\, Jesmond\, Northumberland\, NE2 2RA\, United Kingdom
CATEGORIES:Divisional Meeting
END:VEVENT
BEGIN:VEVENT
DTSTART;TZID=Europe/London:20251227T080000
DTEND;TZID=Europe/London:20251227T170000
DTSTAMP:20260421T165938
CREATED:20251227T162306Z
LAST-MODIFIED:20251227T162306Z
UID:3617-1766822400-1766854800@rcchantsandiow.org.uk
SUMMARY:RCC AGM - Division of Sussex
DESCRIPTION:Red Cross Annual Conclave Meeting for the Division of Sussex
URL:http://rcchantsandiow.org.uk/event/rcc-agm-division-of-sussex/
LOCATION:Division of Sussex\, Charmandean Centre\, Forest Road\, Worthing\, Sussex\, The Charmandean Centre Forest Rd\, Worthing BN14 9HS\, United Kingdom
CATEGORIES:Divisional Meeting
END:VEVENT
BEGIN:VEVENT
DTSTART;TZID=Europe/London:20250628T103000
DTEND;TZID=Europe/London:20250628T150000
DTSTAMP:20260421T165938
CREATED:20240429T132255Z
LAST-MODIFIED:20240429T132255Z
UID:2976-1751106600-1751122800@rcchantsandiow.org.uk
SUMMARY:Divisional Conclave meeting
DESCRIPTION:
URL:http://rcchantsandiow.org.uk/event/divisional-conclave-meeting-2025/
LOCATION:Brook House Masonic Centre\, Brook Lane\, Botley\, Hampshire\, United Kingdom
CATEGORIES:Divisional Meeting
ORGANIZER;CN="Mark Denton":MAILTO:midenton_masonic@hotmail.com
END:VEVENT
END:VCALENDAR